BEGIN:VCALENDAR
VERSION:2.0
PRODID:-//eventon.com NONSGML v1.0//EN
CALSCALE:GREGORIAN
METHOD:PUBLISH
BEGIN:VEVENT
UID:69e5ea2f3b469
DTSTAMP:20260420T085615Z
DTSTART:20250927T060000Z
DTEND:20250927T070000Z
LOCATION:MIDORI.so Kichijoji 東京都武蔵野市吉祥寺本町１丁目５−１ 吉祥寺PARCO8F
SUMMARY:国際協力を“知る“から“行動“へ フリー・ザ・チルドレン × style table コラボイベント
DESCRIPTION:小さな一歩が国際協力につながる、学びと体験
 がひとつになった特別イベント！ style table 吉[..]\nhttps://
 kichifan.com/events/free-the-children-styletable/
URL:https://kichifan.com/events/free-the-children-styletable/
END:VEVENT
END:VCALENDAR